BEGIN:VCALENDAR
VERSION:2.0
PRODID:-//Greater Ozaukee Washington Bowling Association - ECPv6.15.20//NONSGML v1.0//EN
CALSCALE:GREGORIAN
METHOD:PUBLISH
X-ORIGINAL-URL:https://growbausbc.com
X-WR-CALDESC:Events for Greater Ozaukee Washington Bowling Association
REFRESH-INTERVAL;VALUE=DURATION:PT1H
X-Robots-Tag:noindex
X-PUBLISHED-TTL:PT1H
BEGIN:VTIMEZONE
TZID:America/Chicago
BEGIN:DAYLIGHT
TZOFFSETFROM:-0600
TZOFFSETTO:-0500
TZNAME:CDT
DTSTART:20240310T080000
END:DAYLIGHT
BEGIN:STANDARD
TZOFFSETFROM:-0500
TZOFFSETTO:-0600
TZNAME:CST
DTSTART:20241103T070000
END:STANDARD
BEGIN:DAYLIGHT
TZOFFSETFROM:-0600
TZOFFSETTO:-0500
TZNAME:CDT
DTSTART:20250309T080000
END:DAYLIGHT
BEGIN:STANDARD
TZOFFSETFROM:-0500
TZOFFSETTO:-0600
TZNAME:CST
DTSTART:20251102T070000
END:STANDARD
BEGIN:DAYLIGHT
TZOFFSETFROM:-0600
TZOFFSETTO:-0500
TZNAME:CDT
DTSTART:20260308T080000
END:DAYLIGHT
BEGIN:STANDARD
TZOFFSETFROM:-0500
TZOFFSETTO:-0600
TZNAME:CST
DTSTART:20261101T070000
END:STANDARD
END:VTIMEZONE
BEGIN:VEVENT
DTSTART;TZID=America/Chicago:20251127T090000
DTEND;TZID=America/Chicago:20251127T113000
DTSTAMP:20260420T124748
CREATED:20251109T030344Z
LAST-MODIFIED:20251109T030344Z
UID:687-1764234000-1764243000@growbausbc.com
SUMMARY:King Pin West Bend Turkey Shoot
DESCRIPTION:Come out on Thanksgiving morning for a fun 8-pin tap bowling event. \nSee flyer for more details including how to sign up.
URL:https://growbausbc.com/event/king-pin-west-bend-turkey-shoot/
LOCATION:King Pin Bowl\, 1022 S Main St\, West Bend\, WI\, 53095\, United States
END:VEVENT
END:VCALENDAR