BEGIN:VCALENDAR
VERSION:2.0
PRODID:-//Greater Ozaukee Washington Bowling Association - ECPv6.15.20//NONSGML v1.0//EN
CALSCALE:GREGORIAN
METHOD:PUBLISH
X-WR-CALNAME:Greater Ozaukee Washington Bowling Association
X-ORIGINAL-URL:https://growbausbc.com
X-WR-CALDESC:Events for Greater Ozaukee Washington Bowling Association
REFRESH-INTERVAL;VALUE=DURATION:PT1H
X-Robots-Tag:noindex
X-PUBLISHED-TTL:PT1H
BEGIN:VTIMEZONE
TZID:America/Chicago
BEGIN:DAYLIGHT
TZOFFSETFROM:-0600
TZOFFSETTO:-0500
TZNAME:CDT
DTSTART:20240310T080000
END:DAYLIGHT
BEGIN:STANDARD
TZOFFSETFROM:-0500
TZOFFSETTO:-0600
TZNAME:CST
DTSTART:20241103T070000
END:STANDARD
BEGIN:DAYLIGHT
TZOFFSETFROM:-0600
TZOFFSETTO:-0500
TZNAME:CDT
DTSTART:20250309T080000
END:DAYLIGHT
BEGIN:STANDARD
TZOFFSETFROM:-0500
TZOFFSETTO:-0600
TZNAME:CST
DTSTART:20251102T070000
END:STANDARD
BEGIN:DAYLIGHT
TZOFFSETFROM:-0600
TZOFFSETTO:-0500
TZNAME:CDT
DTSTART:20260308T080000
END:DAYLIGHT
BEGIN:STANDARD
TZOFFSETFROM:-0500
TZOFFSETTO:-0600
TZNAME:CST
DTSTART:20261101T070000
END:STANDARD
END:VTIMEZONE
BEGIN:VEVENT
DTSTART;TZID=America/Chicago:20250823T070000
DTEND;TZID=America/Chicago:20250823T190000
DTSTAMP:20260420T075102
CREATED:20240702T132910Z
LAST-MODIFIED:20250304T215619Z
UID:12-1755932400-1755975600@growbausbc.com
SUMMARY:2025 GROWBA Hall-of-Fame Golf Outing
DESCRIPTION:NEW LOCATION! NEW TIME!\nJoin us on Saturday\, August 23 at West Bend Lakes Golf Club for this popular GROWBA fundraising event. \nDetails are still be worked out. Save the date!
URL:https://growbausbc.com/event/growba-hall-of-fame-golf-outing/
LOCATION:West Bend Lakes Golf Club\, 1241 Highway 33\, West Bend\, 53095\, United States
ATTACH;FMTTYPE=image/jpeg:https://growbausbc.com/wp-content/uploads/main_site/golf-ball-flag-scaled.jpg
END:VEVENT
END:VCALENDAR